BEGIN:VCALENDAR
VERSION:2.0
PRODID:-//ChamberMaster//Event Calendar 2.0//EN
METHOD:PUBLISH
X-PUBLISHED-TTL:P3D
REFRESH-INTERVAL:P3D
CALSCALE:GREGORIAN
BEGIN:VEVENT
DTSTART:20181118T133000Z
DTEND:20181118T170000Z
X-MICROSOFT-CDO-ALLDAYEVENT:FALSE
SUMMARY:Turkey Trot Tune-Up 5K - 2018
DESCRIPTION:Sunday\, November 18\, 2018\n\n7:30 a.m. - 11:00 a.m.\n\n7:30 a.m. - Registration\n\n9:00 a.m. - Race Start\n\n\n\nLisle High School\n\n1800 Short Street\n\nLisle\, IL 60532\n\n\n\nThe race starts and ends at Lisle High School.  This 5K takes your through beautiful Lisle Community Park.\n\n\n\nA portion of the proceeds from this race will go the Lisle Lions Club & Lisle Area Chamber of Commerce Scholarship Fund.\n\n\n\nTurkey Trot Tune-Up 5k Sponsors\n\n\n\nChip Timing:  Lisle Savings Bank\n\n\n\nPlatinum: Lisle Park District\n\n                 Molex\, Inc.\n\n\n\nGold: DuPage Medical Group\n\n          Janor Sports\n\n          The Rental Place\,  Inc. - Party & Tent\n\n          WDCB 90.9 fm Public Radio\n\n\n\nContributors:  Williams Chiropractic Center
X-ALT-DESC;FMTTYPE=text/html:<br />\nSunday\, November 18\, 2018<br />\n7:30 a.m. - 11:00 a.m.<br />\n7:30 a.m. - Registration<br />\n9:00 a.m. - Race Start<br />\n<br />\n<strong>Lisle High School</strong><br />\n1800 Short Street<br />\nLisle\, IL 60532<br />\n<br />\nThe race starts and ends at Lisle High School.&nbsp\; This 5K takes your through beautiful Lisle Community Park.<br />\n<br />\n<em>A portion of the proceeds from this race will go the Lisle Lions Club &amp\; Lisle Area Chamber of Commerce Scholarship Fund.</em><br />\n<br />\n<strong>Turkey Trot Tune-Up 5k Sponsors<br />\n<br />\nChip Timing:&nbsp\; Lisle Savings Bank<br />\n<br />\nPlatinum: Lisle Park District<br />\n&nbsp\; &nbsp\; &nbsp\; &nbsp\; &nbsp\; &nbsp\; &nbsp\; &nbsp\; &nbsp\;Molex\, Inc.<br />\n<br />\nGold: DuPage Medical Group<br />\n&nbsp\; &nbsp\; &nbsp\; &nbsp\; &nbsp\; Janor Sports<br />\n&nbsp\; &nbsp\; &nbsp\; &nbsp\; &nbsp\; The Rental Place\,&nbsp\; Inc. - Party &amp\; Tent<br />\n&nbsp\; &nbsp\; &nbsp\; &nbsp\; &nbsp\; WDCB 90.9 fm Public Radio<br />\n<br />\nContributors:&nbsp\; Williams Chiropractic Center</strong>
LOCATION:Lisle High School 1800 Short Street Lisle\, IL 60532 The race starts and ends at Lisle High School. This 5K takes your through beautiful Lisle Community Park.
UID:e.27.9349
SEQUENCE:3
DTSTAMP:20260421T150918Z
URL:https://lislechamber.com/events/details/turkey-trot-tune-up-5k-2018-9349
END:VEVENT

END:VCALENDAR
