BEGIN:VCALENDAR
VERSION:2.0
PRODID:-//ChamberMaster//Event Calendar 2.0//EN
METHOD:PUBLISH
X-PUBLISHED-TTL:P3D
REFRESH-INTERVAL:P3D
CALSCALE:GREGORIAN
BEGIN:VEVENT
DTSTART;VALUE=DATE:20161125
DTEND;VALUE=DATE:20161126
TRANSP:TRANSPARENT
X-MICROSOFT-CDO-ALLDAYEVENT:TRUE
SUMMARY:Thanksgiving - Office Closed
DESCRIPTION:Thanksgiving Holiday - Office Closed\n\nFriday\, November 25\, 2016
X-ALT-DESC;FMTTYPE=text/html:<br />\n<strong>Thanksgiving Holiday - Office Closed</strong><br />\nFriday\, November 25\, 2016
LOCATION:Lisle Area Chamber of Commerce 1111 Burlington Ave.\, Ste. 102 Lisle\, IL 60532
UID:e.27.4669
SEQUENCE:3
DTSTAMP:20260423T181718Z
URL:https://lislechamber.com/events/details/thanksgiving-office-closed-4669
END:VEVENT

END:VCALENDAR
