BEGIN:VCALENDAR
VERSION:2.0
PRODID:-//ChamberMaster//Event Calendar 2.0//EN
METHOD:PUBLISH
X-PUBLISHED-TTL:P3D
REFRESH-INTERVAL:P3D
CALSCALE:GREGORIAN
BEGIN:VEVENT
DTSTART:20200922T200000Z
DTEND:20200922T210000Z
X-MICROSOFT-CDO-ALLDAYEVENT:FALSE
SUMMARY:LINCT Meeting - Virtual Meeting
DESCRIPTION:Virtual LINCT Meeting\n\nTuesday\, September 22\, 2020\n\n3:00 p.m.\n\n\n\nVirtual Meeting - For information on the login details please contact Claudine at claudine@lislechamber.com
X-ALT-DESC;FMTTYPE=text/html:<br />\n<strong>Virtual LINCT Meeting</strong><br />\nTuesday\, September 22\, 2020<br />\n3:00 p.m.<br />\n<br />\n<strong>Virtual Meeting - For information on the login details please contact Claudine at claudine@lislechamber.com</strong>
LOCATION:Virtual Meeting
UID:e.27.11192
SEQUENCE:3
DTSTAMP:20260421T104500Z
URL:https://lislechamber.com/events/details/linct-meeting-virtual-meeting-11192
END:VEVENT

END:VCALENDAR
