BEGIN:VCALENDAR
VERSION:2.0
PRODID:-//ChamberMaster//Event Calendar 2.0//EN
METHOD:PUBLISH
X-PUBLISHED-TTL:P3D
REFRESH-INTERVAL:P3D
CALSCALE:GREGORIAN
BEGIN:VEVENT
DTSTART:20260509T160000Z
DTEND:20260509T180000Z
X-MICROSOFT-CDO-ALLDAYEVENT:FALSE
SUMMARY:Community Event: Mother's Day Breakfast at Hyatt Regency Lisle
DESCRIPTION:Celebrate Mother's Day with a delightful breakfast buffet honoring the incredible women in our lives. Join us for a special Mother's Day Breakfast Buffet as we celebrate the love and care of mothers and mother figures. Treat the amazing women in your life to a relaxing morning filled with delicious food\, warm hospitality\, and meaningful moments ??
X-ALT-DESC;FMTTYPE=text/html:<br />\nCelebrate Mother&rsquo\;s Day with a delightful breakfast buffet honoring the incredible women in our lives. Join us for a special Mother&rsquo\;s Day Breakfast Buffet as we celebrate the love and care of mothers and mother figures. Treat the amazing women in your life to a relaxing morning filled with delicious food\, warm hospitality\, and meaningful moments ??
LOCATION:Hyatt Regency Lisle
UID:e.27.16904
SEQUENCE:3
DTSTAMP:20260422T202737Z
URL:https://lislechamber.com/events/details/community-event-mother-s-day-breakfast-at-hyatt-regency-lisle-16904
END:VEVENT

END:VCALENDAR
