BEGIN:VCALENDAR
VERSION:2.0
PRODID:-//ChamberMaster//Event Calendar 2.0//EN
METHOD:PUBLISH
X-PUBLISHED-TTL:P3D
REFRESH-INTERVAL:P3D
CALSCALE:GREGORIAN
BEGIN:VEVENT
DTSTART:20260429T231500Z
DTEND:20260430T021500Z
X-MICROSOFT-CDO-ALLDAYEVENT:FALSE
SUMMARY:Community Event: Lisle Woman's Club 'Spring" Bunco
DESCRIPTION:Lisle Woman's Club 'Spring' Bunco\n\nWednesday\, April 29\, 2026\n\n\n\nCheck-in begins at 6:15 p.m.\n\nGames start at 7:00 p.m.\n\n\n\nEvent will be held at\n\nBubblehouse Brewing Company\n\n2121 Ogden Avenue\n\nLisle\, IL 60532\n\n\n\n$25 per person Includes:\n\nEvening of Bunco\,\n\nOne Raffle Ticket\, \n\nFinger Sandwiches & Snacks\n\nCash Bar Available\n\n \n\nLimited Seating! Reserve Your Spot Today!\n\nReserve Online: eventsprout.com/event/lwc-spring-2026-bunco\n\nor Reserve your Spot by Mail\n\nwith a check and all participants contact info to:\n\nLisle Woman's Club\, c/o Fall Bunco\, P.O.3886\, Lisle\, IL 60532\n\nQuestions: Joanne Ehrhardt 630-772-1504
X-ALT-DESC;FMTTYPE=text/html:<br />\n<strong>Lisle Woman&#39\;s Club &#39\;Spring&#39\; Bunco</strong><br />\nWednesday\, April 29\, 2026<br />\n<br />\nCheck-in begins at 6:15 p.m.<br />\nGames start at 7:00 p.m.<br />\n<br />\n<strong>Event will be held at<br />\nBubblehouse Brewing Company<br />\n2121 Ogden Avenue<br />\nLisle\, IL 60532</strong><br />\n<br />\n<em><span style="color:#3A7C22\;"><span style="font-family:bookman old style\,serif\;"><span style="font-size:14.0pt\;">$25 per person Includes:</span></span></span></em><br />\n<em><span style="color:#3A7C22\;"><span style="font-family:bookman old style\,serif\;"><span style="font-size:14.0pt\;">Evening of Bunco\,</span></span></span></em><br />\n<em><span style="color:#3A7C22\;"><span style="font-family:bookman old style\,serif\;"><span style="font-size:14.0pt\;">One Raffle Ticket\, </span></span></span></em><br />\n<em><span style="color:#3A7C22\;"><span style="font-family:bookman old style\,serif\;"><span style="font-size:14.0pt\;">Finger Sandwiches &amp\; Snacks</span></span></span></em><br />\n<span style="color:#3A7C22\;"><span style="font-family:bookman old style\,serif\;"><span style="font-size:14.0pt\;">Cash Bar Available</span></span></span><br />\n&nbsp\;<br />\n<strong><span style="font-family:calibri\,sans-serif\;"><span style="font-size:11.0pt\;">Limited Seating! Reserve Your Spot Today!</span></span></strong><br />\n<span style="font-family:calibri\,sans-serif\;"><span style="font-size:10.0pt\;">Reserve Online: </span></span><a href="http://www.eventsprout.com/event/lwc-spring-2026-bunco"><span style="font-size:10.0pt\;">eventsprout.com/event/lwc-spring-2026-bunco</span></a><br />\n<span style="font-family:calibri\,sans-serif\;"><span style="font-size:11.0pt\;">or Reserve your Spot by Mail</span></span><br />\n<span style="font-family:calibri\,sans-serif\;"><span style="font-size:11.0pt\;">with a check and all participants contact info to:</span></span><br />\n<span style="font-family:calibri\,sans-serif\;"><span style="font-size:11.0pt\;">Lisle Woman&rsquo\;s Club\, c/o Fall Bunco\, P.O.3886\, Lisle\, IL 60532</span></span><br />\n<span style="font-family:calibri\,sans-serif\;"><span style="font-size:11.0pt\;">Questions: Joanne Ehrhardt 630-772-1504</span></span><br />\n&nbsp\;<br />\n&nbsp\;
LOCATION:Bubblehouse Brewing Company 2121 Ogden Avenue Lisle\, IL 60532
UID:e.27.16903
SEQUENCE:3
DTSTAMP:20260421T200619Z
URL:https://lislechamber.com/events/details/community-event-lisle-woman-s-club-spring-bunco-16903
END:VEVENT

END:VCALENDAR
