BEGIN:VCALENDAR
VERSION:2.0
PRODID:-//ChamberMaster//Event Calendar 2.0//EN
METHOD:PUBLISH
X-PUBLISHED-TTL:P3D
REFRESH-INTERVAL:P3D
CALSCALE:GREGORIAN
BEGIN:VEVENT
DTSTART:20200924T190000Z
DTEND:20200924T230000Z
X-MICROSOFT-CDO-ALLDAYEVENT:FALSE
SUMMARY:Community Event - Lisle Community Blood Drive
DESCRIPTION:
X-ALT-DESC;FMTTYPE=text/html:
LOCATION:Versiti Mobile Donation Coach Lisle Village Hall 925 Burlington Ave.
UID:e.27.11190
SEQUENCE:3
DTSTAMP:20260421T121503Z
URL:https://lislechamber.com/events/details/community-event-lisle-community-blood-drive-11190
END:VEVENT

END:VCALENDAR
