BEGIN:VCALENDAR
VERSION:2.0
PRODID:-//ChamberMaster//Event Calendar 2.0//EN
METHOD:PUBLISH
X-PUBLISHED-TTL:P3D
REFRESH-INTERVAL:P3D
CALSCALE:GREGORIAN
BEGIN:VEVENT
DTSTART:20260614T150000Z
DTEND:20260614T210000Z
X-MICROSOFT-CDO-ALLDAYEVENT:FALSE
SUMMARY:Community Event: Garden Gait 2026
DESCRIPTION:Join us Sunday\, June 14th 2026 from 10 am to 4 pm for our 24th Annual Garden Gait. It is our premier fundraising activity showcasing beautiful homeowner gardens in Lisle. Begin your day the Museum at Lisle Station Park.  Here you will pick up a booklet directing you to our gardens.  Visit our Craft Fair at the Museum Park and enter our Gift Baskets Raffle.  Be sure to stop by The Netzley-Yender House for a complimentary refreshments before or after you tour the gardens and craft fair. \n\n \n\nProceeds from Garden Gait helped to fund our philanthropic work and in support of children and families in and around our community. It is our pleasure each spring to award scholarship to graduating seniors and adult woman returning to school.  Thank you for your support.\n \n\nLISLE WOMAN'S CLUB - Presents the 24th Annual Garden Gait\n\nSunday\, June 14\, 2026 - 10 a.m.  to 4 p.m. - Begins at Museums at Lisle Station Park\, 921 School Street\, Lisle\, IL\n\nEntry Tickets are $25 and Raffle tickets are $2 each or 6 for $10 when purchased at the event.\n\nPresale Entry Tickets are $20 order here.\n\nAdd 12 raffle tickets for $20 at the same time and get a free raffle ticket totaling 13.\n\nAll online purchases can be picked up at the Will Call table at Garden Gait.\n\nAll Presale Transactions must be completed before 10:00 pm on Saturday June 13\, 2026\n\n\n\nCLICK HERE TO PURCHASE TICKETS
X-ALT-DESC;FMTTYPE=text/html:<p class="font_8 wixui-rich-text__text" style="vertical-align: baseline\; background: 0px 0px\; border: 0px\; outline: 0px\; padding: 0px\; pointer-events: auto\; font-style: normal\; font-variant: normal\; font-size-adjust: none\; font-language-override: normal\; font-kerning: auto\; font-optical-sizing: auto\; font-feature-settings: normal\; font-variation-settings: normal\; font-stretch: normal\; font-size: 14px\; line-height: 19.6px\; font-family: verdana\, geneva\, sans-serif\; color: rgb(95\, 61\, 124)\; margin-block: 0px\; margin: 0px\;"><br />\n<span class="wixui-rich-text__text" style="vertical-align: baseline\; background: 0px 0px\; border: 0px\; outline: 0px\; margin: 0px\; padding: 0px\; font-size: 18px\;">Join us Sunday\, June 14th 2026 from 10 am to 4 pm for our 24th Annual Garden Gait. It is our premier fundraising activity showcasing beautiful homeowner gardens in Lisle. Begin your day the&nbsp\;<span class="wixui-rich-text__text" style="vertical-align: baseline\; background: 0px 0px\; border: 0px\; outline: 0px\; margin: 0px\; padding: 0px\; color: rgb(26\, 45\, 243)\;"><span class="wixui-rich-text__text" style="vertical-align: baseline\; background: 0px 0px\; border: 0px\; outline: 0px\; margin: 0px\; padding: 0px\; text-decoration: underline\;"><a class="wixui-rich-text__text" href="http://www.lisleparkdistrict.org/museumsatlislestationpark.html" rel="noreferrer noopener" style="vertical-align: baseline\; background: 0px 0px\; border: 0px\; outline: 0px\; margin: 0px\; padding: 0px\; cursor: pointer\; text-decoration: none\; color: inherit\;" target="_blank">Museum at Lisle Station Park.</a></span></span>&nbsp\; Here&nbsp\;</span><span class="wixui-rich-text__text" style="vertical-align: baseline\; background: 0px 0px\; border: 0px\; outline: 0px\; margin: 0px\; padding: 0px\; font-size: 18px\; letter-spacing: 0em\;">you will pick up a booklet directing you to our gardens.&nbsp\; Visit our Craft Fair at the Museum Park and enter our Gift Baskets Raffle.&nbsp\; Be sure to stop by The&nbsp\;</span><a class="wixui-rich-text__text" dataquery="dGV4dExpbmtfbHUzNHJ3aDY=" style="vertical-align: baseline\; background: 0px 0px\; border: 0px\; outline: 0px\; margin: 0px\; padding: 0px\; cursor: pointer\; color: inherit\; font-size: 18px\; letter-spacing: 0em\;">Netzley-Yender House</a><span class="wixui-rich-text__text" style="vertical-align: baseline\; background: 0px 0px\; border: 0px\; outline: 0px\; margin: 0px\; padding: 0px\; font-size: 18px\; letter-spacing: 0em\;">&nbsp\;for a complimentary refreshments before or after you tour the gardens and craft fair.&nbsp\;</span></p>\n\n<p class="font_8 wixui-rich-text__text" style="vertical-align: baseline\; background: 0px 0px\; border: 0px\; outline: 0px\; padding: 0px\; pointer-events: auto\; font-style: normal\; font-variant: normal\; font-size-adjust: none\; font-language-override: normal\; font-kerning: auto\; font-optical-sizing: auto\; font-feature-settings: normal\; font-variation-settings: normal\; font-stretch: normal\; font-size: 14px\; line-height: 19.6px\; font-family: verdana\, geneva\, sans-serif\; color: rgb(95\, 61\, 124)\; margin-block: 0px\; margin: 0px\;"><span class="wixui-rich-text__text" style="vertical-align: baseline\; background: 0px 0px\; border: 0px\; outline: 0px\; margin: 0px\; padding: 0px\; font-size: 18px\;">&#8203\;</span></p>\n\n<p class="font_8 wixui-rich-text__text" style="vertical-align: baseline\; background: 0px 0px\; border: 0px\; outline: 0px\; padding: 0px\; pointer-events: auto\; font-style: normal\; font-variant: normal\; font-size-adjust: none\; font-language-override: normal\; font-kerning: auto\; font-optical-sizing: auto\; font-feature-settings: normal\; font-variation-settings: normal\; font-stretch: normal\; font-size: 18px\; line-height: 25.2px\; font-family: verdana\, geneva\, sans-serif\; color: rgb(95\, 61\, 124)\; margin-block: 0px\; margin: 0px\;"><span class="wixui-rich-text__text" style="vertical-align: baseline\; background: 0px 0px\; border: 0px\; outline: 0px\; margin: 0px\; padding: 0px\;"><span class="wixui-rich-text__text" style="vertical-align: baseline\; background: 0px 0px\; border: 0px\; outline: 0px\; margin: 0px\; padding: 0px\; font-style: italic\;">Proceeds from Garden Gait helped to fund our philanthropic work and in support of children and families in and around our community. It is our pleasure each spring to award scholarship to graduating seniors and adult woman returning to school.&nbsp\; Thank you for your support.</span></span></p>\n&nbsp\;\n\n<p style="-webkit-font-smoothing: antialiased\; box-sizing: inherit\; margin-top: 0px\; margin-bottom: 0px\; color: rgb(66\, 64\, 61)\; font-family: Lato\, serif\; font-size: 14px\;"><span style="-webkit-font-smoothing: antialiased\; box-sizing: inherit\;"><span style="-webkit-font-smoothing: antialiased\; box-sizing: inherit\; font-size: 1rem\;"><span style="-webkit-font-smoothing: antialiased\; box-sizing: inherit\; color: rgb(0\, 0\, 255)\;"><span style="-webkit-font-smoothing: antialiased\; box-sizing: inherit\; font-weight: bold\; font-size: 18px\;">LISLE WOMAN&#39\;S CLUB&nbsp\;-&nbsp\;</span></span><span style="-webkit-font-smoothing: antialiased\; box-sizing: inherit\; color: rgb(0\, 0\, 255)\; font-weight: bold\; font-size: 18px\;">Presents the 24th Annual Garden Gait</span></span></span></p>\n\n<p style="-webkit-font-smoothing: antialiased\; box-sizing: inherit\; margin-top: 0px\; margin-bottom: 0px\; color: rgb(66\, 64\, 61)\; font-family: Lato\, serif\; font-size: 14px\;"><span style="-webkit-font-smoothing: antialiased\; box-sizing: inherit\; font-size: 1rem\;">Sunday\, June 14\, 2026 -&nbsp\;</span><span style="-webkit-font-smoothing: antialiased\; box-sizing: inherit\; font-size: 1rem\;">10 a.m.&nbsp\; to 4 p.m. -&nbsp\;</span><span style="-webkit-font-smoothing: antialiased\; box-sizing: inherit\; font-size: 1rem\;">Begins at Museums at Lisle Station Park\, 921 School Street\, Lisle\, IL</span></p>\n\n<p style="-webkit-font-smoothing: antialiased\; box-sizing: inherit\; margin-top: 0px\; margin-bottom: 0px\; color: rgb(66\, 64\, 61)\; font-family: Lato\, serif\; font-size: 14px\;">Entry Tickets are $25 and Raffle tickets are $2 each or 6 for $10&nbsp\;<span style="-webkit-font-smoothing: antialiased\; box-sizing: inherit\; font-size: 1rem\;">when purchased at the event</span><span style="-webkit-font-smoothing: antialiased\; box-sizing: inherit\; font-size: 1rem\;">.</span></p>\n\n<p style="-webkit-font-smoothing: antialiased\; box-sizing: inherit\; margin-top: 0px\; margin-bottom: 0px\; color: rgb(66\, 64\, 61)\; font-family: Lato\, serif\; font-size: 14px\;"><span style="-webkit-font-smoothing: antialiased\; box-sizing: inherit\; color: rgb(0\, 0\, 255)\;"><span style="-webkit-font-smoothing: antialiased\; box-sizing: inherit\; font-weight: bolder\;"><span style="-webkit-font-smoothing: antialiased\; box-sizing: inherit\; font-size: 18px\;">Presale Entry Tickets are $20 order here.</span></span></span></p>\n\n<p style="-webkit-font-smoothing: antialiased\; box-sizing: inherit\; margin-top: 0px\; margin-bottom: 0px\; color: rgb(66\, 64\, 61)\; font-family: Lato\, serif\; font-size: 14px\;"><span style="-webkit-font-smoothing: antialiased\; box-sizing: inherit\; font-size: 1rem\; color: rgb(0\, 0\, 255)\;"><span style="-webkit-font-smoothing: antialiased\; box-sizing: inherit\; font-weight: bolder\;"><span style="-webkit-font-smoothing: antialiased\; box-sizing: inherit\; font-size: 18px\;">Add</span></span></span><span style="-webkit-font-smoothing: antialiased\; box-sizing: inherit\; font-weight: bolder\; font-size: 1rem\; color: rgb(0\, 0\, 255)\;"><span style="-webkit-font-smoothing: antialiased\; box-sizing: inherit\; font-size: 18px\;">&nbsp\;12 raffle tickets for $20 at the same time and get a free raffle ticket totaling 13.</span></span></p>\n\n<p style="-webkit-font-smoothing: antialiased\; box-sizing: inherit\; margin-top: 0px\; margin-bottom: 0px\; color: rgb(66\, 64\, 61)\; font-family: Lato\, serif\; font-size: 14px\;"><span style="-webkit-font-smoothing: antialiased\; box-sizing: inherit\; font-weight: bolder\; font-size: 1rem\; color: rgb(0\, 0\, 255)\;"><span style="-webkit-font-smoothing: antialiased\; box-sizing: inherit\; font-size: 18px\;">All online purchases can be picked up at the Will Call table at Garden Gait.</span></span></p>\n\n<p style="-webkit-font-smoothing: antialiased\; box-sizing: inherit\; margin-top: 0px\; margin-bottom: 0px\; color: rgb(66\, 64\, 61)\; font-family: Lato\, serif\; font-size: 14px\;"><span style="-webkit-font-smoothing: antialiased\; box-sizing: inherit\; color: rgb(33\, 16\, 74)\;">All Presale Transactions&nbsp\;</span><span style="-webkit-font-smoothing: antialiased\; box-sizing: inherit\; font-weight: bolder\;"><span style="-webkit-font-smoothing: antialiased\; box-sizing: inherit\; color: rgb(33\, 16\, 74)\;">must</span><span style="-webkit-font-smoothing: antialiased\; box-sizing: inherit\; color: rgb(33\, 16\, 74)\;">&nbsp\;be completed before 10:00 pm on Saturday June 13\, 2026<br />\n<br />\n<a href="https://www.eventsprout.com/event/lwc-garden-gait-2026-presale-entry-ticket">CLICK HERE TO PURCHASE TICKETS</a></span></span></p>\n
LOCATION:Begins at Museums at Lisle Station Park\, 921 School Street\, Lisle\, IL
UID:e.27.16905
SEQUENCE:3
DTSTAMP:20260425T163643Z
URL:https://lislechamber.com/events/details/community-event-garden-gait-2026-16905
END:VEVENT

END:VCALENDAR
