BEGIN:VCALENDAR
VERSION:2.0
PRODID:-//ChamberMaster//Event Calendar 2.0//EN
METHOD:PUBLISH
X-PUBLISHED-TTL:P3D
REFRESH-INTERVAL:P3D
CALSCALE:GREGORIAN
BEGIN:VEVENT
DTSTART:20180919T123000Z
DTEND:20180919T133000Z
X-MICROSOFT-CDO-ALLDAYEVENT:FALSE
SUMMARY:Board of Directors Meeting
DESCRIPTION:Board of Directors Meeting\n\nWednesday\, September 19\, 2018\n\n7:30 a.m.\n\n\n\nHilton Lisle/Naperville\n\n3003 Corporate West Drive\n\nLisle\, IL 60532
X-ALT-DESC;FMTTYPE=text/html:<br />\n<strong>Board of Directors Meeting</strong><br />\nWednesday\, September 19\, 2018<br />\n7:30 a.m.<br />\n<br />\n<strong>Hilton Lisle/Naperville</strong><br />\n3003 Corporate West Drive<br />\nLisle\, IL 60532
LOCATION:Hilton Lisle/Naperville 3003 Corporate West Drive Lisle\, IL 60532
UID:e.27.9425
SEQUENCE:3
DTSTAMP:20260422T064026Z
URL:https://lislechamber.com/events/details/board-of-directors-meeting-9425
END:VEVENT

END:VCALENDAR
